BEGIN:VCALENDAR
VERSION:2.0
PRODID:-//wp-events-plugin.com//7.2.3.1//EN
BEGIN:VEVENT
UID:268@rahlstedter-leben.de
DTSTART:20211031T130000Z
DTEND:20211031T134500Z
DTSTAMP:20211018T145929Z
URL:https://www.rahlstedter-leben.de/veranstaltungen/helli-hu-ein-musikali
 sches-maerchen-2/
SUMMARY:"Helli Hu" - ein musikalisches Märchen
DESCRIPTION:In dem musikalischen Märchen „Helli Hu“ geht es um einen j
 ungen Wolf\, der in die Fremde zieht und vielerlei Erlebnisse hat.\n\nHelm
 ut Stuarnig an der Geige und Regine Münchow am Akkordeon machen Musik und
  erzählen die spannende Geschichte.\n\nDauer etwa 40 Minuten\, für Kind
 er ab 4 Jahren.\n\nBitte anmelden unter: Stuarnig@web.de\nEintritt frei - 
 Erwachsene nur mit 3G-Nachweis: Geimpfte\, Getestete oder Genesene\n\n
ATTACH;FMTTYPE=image/jpeg:https://www.rahlstedter-leben.de/wp-content/uplo
 ads/2021/10/HelliHu.jpg
CATEGORIES:Musik
LOCATION:KulturWerk Rahlstedt e.V.\, Boizenburger Weg 7\, Hamburg\, 22143\,
  Deutschland
X-APPLE-STRUCTURED-LOCATION;VALUE=URI;X-ADDRESS=Boizenburger Weg 7\, Hambur
 g\, 22143\, Deutschland;X-APPLE-RADIUS=100;X-TITLE=KulturWerk Rahlstedt e.
 V.:geo:0,0
END:VEVENT
END:VCALENDAR